BEGIN:VCALENDAR
VERSION:2.0
PRODID:-//eventon.com NONSGML v1.0//EN
CALSCALE:GREGORIAN
METHOD:PUBLISH
BEGIN:VEVENT
UID:69e74081751e2
DTSTAMP:20260421T051649
DTSTART:20260321T100000Z
DTEND:20260321T120000Z
TZID:America/Toronto
LOCATION:
SUMMARY:Bricolage en famille avec Danielle Coulombe
DESCRIPTION:L’équipe de la Bibliothèque Madeleine-Bélanger propose plusieurs activités culturelles à la population tout au long de l&rsquo;année. IMPORTANT : Comme les places sont limitées\,  il est conseillé de réserver dès que possible en communiquant au 819 364-3333\,  poste 3515 ou par courriel à d.leblanc@princeville.quebec. GRATUIT\nhttps://princeville.quebec/activites/bricolage-avec-danielle-coulomb-et-kim-godbout/var/ri-1.l-L1
URL:https://princeville.quebec/activites/bricolage-avec-danielle-coulomb-et-kim-godbout/var/ri-1.l-L1
END:VEVENT
END:VCALENDAR