BEGIN:VCALENDAR
VERSION:2.0
PRODID:-//eventon.com NONSGML v1.0//EN
CALSCALE:GREGORIAN
METHOD:PUBLISH
BEGIN:VEVENT
UID:69e5fb30b6030
DTSTAMP:20260420T060848
DTSTART:20260428T110000Z
DTEND:20260428T114500Z
TZID:America/Toronto
LOCATION:
SUMMARY:Patinage libre
DESCRIPTION:Venez patiner librement lors de nos séances gratuites offertes au Centre sportif Paul-de-la-Sablonnière. Une belle occasion de bouger et de s’amuser sur la glace!\nhttps://princeville.quebec/activites/patinage-libre/var/ri-29.l-L1
URL:https://princeville.quebec/activites/patinage-libre/var/ri-29.l-L1
END:VEVENT
END:VCALENDAR